BEGIN:VCALENDAR
VERSION:2.0
PRODID:-//JCC Brooklyn Clinton Hill - ECPv6.11.2.1//NONSGML v1.0//EN
CALSCALE:GREGORIAN
METHOD:PUBLISH
X-ORIGINAL-URL:https://www.jcc-brooklyn.org/clinton-hill
X-WR-CALDESC:Events for JCC Brooklyn Clinton Hill
REFRESH-INTERVAL;VALUE=DURATION:PT1H
X-Robots-Tag:noindex
X-PUBLISHED-TTL:PT1H
BEGIN:VTIMEZONE
TZID:America/New_York
BEGIN:DAYLIGHT
TZOFFSETFROM:-0500
TZOFFSETTO:-0400
TZNAME:EDT
DTSTART:20210314T070000
END:DAYLIGHT
BEGIN:STANDARD
TZOFFSETFROM:-0400
TZOFFSETTO:-0500
TZNAME:EST
DTSTART:20211107T060000
END:STANDARD
END:VTIMEZONE
BEGIN:VEVENT
DTSTART;TZID=America/New_York:20210413T200000
DTEND;TZID=America/New_York:20210413T210000
DTSTAMP:20260423T104353
CREATED:20210323T033022Z
LAST-MODIFIED:20210323T033022Z
UID:10001943-1618344000-1618347600@www.jcc-brooklyn.org
SUMMARY:Preschool Camps Virtual Info Session
DESCRIPTION:Join JCC Brooklyn Preschools for our Preschool Summer Camp Info Session. Perfect for families with kids ages 1-4.5. Members of our Senior Staff and an expert panel will weigh in on all procedures\, protocols\, and answer questions that are on the minds of our families and community. \nRegister in advance for this meeting HERE\nAfter registering\, you will receive a confirmation email containing information about joining the meeting.
URL:https://www.jcc-brooklyn.org/clinton-hill/event/preschool-camps-virtual-info-session/
LOCATION:JCC Clinton Hill\, 309 Grand Avenue\, Brooklyn\, NY\, 11238
END:VEVENT
END:VCALENDAR