BEGIN:VCALENDAR
VERSION:2.0
PRODID:-//JCC Brooklyn Clinton Hill - ECPv6.11.2.1//NONSGML v1.0//EN
CALSCALE:GREGORIAN
METHOD:PUBLISH
X-ORIGINAL-URL:https://www.jcc-brooklyn.org/clinton-hill
X-WR-CALDESC:Events for JCC Brooklyn Clinton Hill
REFRESH-INTERVAL;VALUE=DURATION:PT1H
X-Robots-Tag:noindex
X-PUBLISHED-TTL:PT1H
BEGIN:VTIMEZONE
TZID:America/New_York
BEGIN:DAYLIGHT
TZOFFSETFROM:-0500
TZOFFSETTO:-0400
TZNAME:EDT
DTSTART:20230312T070000
END:DAYLIGHT
BEGIN:STANDARD
TZOFFSETFROM:-0400
TZOFFSETTO:-0500
TZNAME:EST
DTSTART:20231105T060000
END:STANDARD
END:VTIMEZONE
BEGIN:VEVENT
DTSTART;TZID=America/New_York:20230319T100000
DTEND;TZID=America/New_York:20230319T120000
DTSTAMP:20260424T094533
CREATED:20200106T190449Z
LAST-MODIFIED:20200106T190449Z
UID:10002206-1679220000-1679227200@www.jcc-brooklyn.org
SUMMARY:JCC Sundays
DESCRIPTION:Ages 0-5 years old\nSundays 10:00 am – 12:00 pm\nFree play\, art and craft activities\, and a dance/movement class\n$20 per class \nRegister here: https://www.jcc-brooklyn.org/clinton-hill/programs/0-5/jcc-sundays/#overview
URL:https://www.jcc-brooklyn.org/clinton-hill/event/jcc-sundays-2/2023-03-19/
LOCATION:JCC Clinton Hill\, 309 Grand Avenue\, Brooklyn\, NY\, 11238
ATTACH;FMTTYPE=image/png:https://www.jcc-brooklyn.org/clinton-hill/wp-content/uploads/sites/4/2020/01/Sunday-Program.png
END:VEVENT
BEGIN:VEVENT
DTSTART;TZID=America/New_York:20230319T100000
DTEND;TZID=America/New_York:20230319T120000
DTSTAMP:20260424T094533
CREATED:20221130T175714Z
LAST-MODIFIED:20221130T175714Z
UID:10002339-1679220000-1679227200@www.jcc-brooklyn.org
SUMMARY:JCC Sundays
DESCRIPTION:JCC Sundays\nAges 0-5 years old\nSundays 10:00 am – 12:00 pm\nArts and Crafts\, Story time\, Dance\, Music with Yonatan\n$20 (second child is 25% off ) \nDates: 12/4; 12/11;/12/18 (Hanukkah)\n01/08; 01/22; 01/29\n02/05 (Tu Bishvat); 02/12\n03/05 (Purim) 03/12; 03/19; 03/26 \nREGISTER HERE
URL:https://www.jcc-brooklyn.org/clinton-hill/event/jcc-sundays-3/2023-03-19/
LOCATION:JCC Clinton Hill\, 309 Grand Avenue\, Brooklyn\, NY\, 11238
END:VEVENT
BEGIN:VEVENT
DTSTART;TZID=America/New_York:20230319T100000
DTEND;TZID=America/New_York:20230319T120000
DTSTAMP:20260424T094533
CREATED:20230227T213329Z
LAST-MODIFIED:20230227T213329Z
UID:10002344-1679220000-1679227200@www.jcc-brooklyn.org
SUMMARY:JCC Sundays
DESCRIPTION:RSVP HERE
URL:https://www.jcc-brooklyn.org/clinton-hill/event/jcc-sundays-march/2023-03-19/
LOCATION:JCC Clinton Hill\, 309 Grand Avenue\, Brooklyn\, NY\, 11238
END:VEVENT
END:VCALENDAR