BEGIN:VCALENDAR
VERSION:2.0
PRODID:-//JCC Brooklyn Clinton Hill - ECPv6.11.2.1//NONSGML v1.0//EN
CALSCALE:GREGORIAN
METHOD:PUBLISH
X-WR-CALNAME:JCC Brooklyn Clinton Hill
X-ORIGINAL-URL:https://www.jcc-brooklyn.org/clinton-hill
X-WR-CALDESC:Events for JCC Brooklyn Clinton Hill
REFRESH-INTERVAL;VALUE=DURATION:PT1H
X-Robots-Tag:noindex
X-PUBLISHED-TTL:PT1H
BEGIN:VTIMEZONE
TZID:UTC
BEGIN:STANDARD
TZOFFSETFROM:+0000
TZOFFSETTO:+0000
TZNAME:UTC
DTSTART:20180101T000000
END:STANDARD
END:VTIMEZONE
BEGIN:VEVENT
DTSTART;VALUE=DATE:20180101
DTEND;VALUE=DATE:20180102
DTSTAMP:20260422T224459
CREATED:20171212T104541Z
LAST-MODIFIED:20171212T104541Z
UID:10001213-1514764800-1514851199@www.jcc-brooklyn.org
SUMMARY:Winter Recess
DESCRIPTION:School Closed for Winter Recess
URL:https://www.jcc-brooklyn.org/clinton-hill/event/winter-recess/2018-01-01/
LOCATION:JCC Clinton Hill\, 309 Grand Avenue\, Brooklyn\, NY\, 11238
CATEGORIES:School Calendar 17-18
END:VEVENT
BEGIN:VEVENT
DTSTART;VALUE=DATE:20180102
DTEND;VALUE=DATE:20180103
DTSTAMP:20260422T224459
CREATED:20171128T232549Z
LAST-MODIFIED:20171128T232549Z
UID:10001183-1514851200-1514937599@www.jcc-brooklyn.org
SUMMARY:School Resumes
DESCRIPTION:
URL:https://www.jcc-brooklyn.org/clinton-hill/event/school-resumes/
LOCATION:JCC Clinton Hill\, 309 Grand Avenue\, Brooklyn\, NY\, 11238
CATEGORIES:School Calendar 17-18
END:VEVENT
BEGIN:VEVENT
DTSTART;TZID=UTC:20180104T080000
DTEND;TZID=UTC:20180104T233000
DTSTAMP:20260422T224459
CREATED:20180104T204115Z
LAST-MODIFIED:20180104T204725Z
UID:10001217-1515052800-1515108600@www.jcc-brooklyn.org
SUMMARY:testing
DESCRIPTION:testttttt
URL:https://www.jcc-brooklyn.org/clinton-hill/event/testing/
LOCATION:JCC Clinton Hill\, 309 Grand Avenue\, Brooklyn\, NY\, 11238
CATEGORIES:Agency Calendar
END:VEVENT
BEGIN:VEVENT
DTSTART;TZID=UTC:20180105T093000
DTEND;TZID=UTC:20180105T101500
DTSTAMP:20260422T224459
CREATED:20171206T070329Z
LAST-MODIFIED:20171212T103429Z
UID:10001198-1515144600-1515147300@www.jcc-brooklyn.org
SUMMARY:ShaJam Fridays
DESCRIPTION:Join us every Friday morning to wrap up the week and celebrate Shabbat as a community! Neighborhood families are encouraged to join with students from our Early Childhood Programs for music\, dancing\, stories\, and snacks led by our friends from Tkiya: The Jewish Community Music School. FREE and open to all\, regardless of background.
URL:https://www.jcc-brooklyn.org/clinton-hill/event/shajam-fridays/2018-01-05/
LOCATION:JCC Clinton Hill\, 309 Grand Avenue\, Brooklyn\, NY\, 11238
CATEGORIES:Agency Calendar,Family Programs
ATTACH;FMTTYPE=image/jpeg:https://www.jcc-brooklyn.org/clinton-hill/wp-content/uploads/sites/4/2017/12/shajam_c03.jpg
END:VEVENT
BEGIN:VEVENT
DTSTART;TZID=UTC:20180112T093000
DTEND;TZID=UTC:20180112T101500
DTSTAMP:20260422T224459
CREATED:20171206T070329Z
LAST-MODIFIED:20171212T103429Z
UID:10001199-1515749400-1515752100@www.jcc-brooklyn.org
SUMMARY:ShaJam Fridays
DESCRIPTION:Join us every Friday morning to wrap up the week and celebrate Shabbat as a community! Neighborhood families are encouraged to join with students from our Early Childhood Programs for music\, dancing\, stories\, and snacks led by our friends from Tkiya: The Jewish Community Music School. FREE and open to all\, regardless of background.
URL:https://www.jcc-brooklyn.org/clinton-hill/event/shajam-fridays/2018-01-12/
LOCATION:JCC Clinton Hill\, 309 Grand Avenue\, Brooklyn\, NY\, 11238
CATEGORIES:Agency Calendar,Family Programs
ATTACH;FMTTYPE=image/jpeg:https://www.jcc-brooklyn.org/clinton-hill/wp-content/uploads/sites/4/2017/12/shajam_c03.jpg
END:VEVENT
BEGIN:VEVENT
DTSTART;VALUE=DATE:20180115
DTEND;VALUE=DATE:20180116
DTSTAMP:20260422T224459
CREATED:20171128T232658Z
LAST-MODIFIED:20171128T232658Z
UID:10001184-1515974400-1516060799@www.jcc-brooklyn.org
SUMMARY:School Closed for MLK Jr Day
DESCRIPTION:
URL:https://www.jcc-brooklyn.org/clinton-hill/event/school-closed-mlk-jr-day/
LOCATION:JCC Clinton Hill\, 309 Grand Avenue\, Brooklyn\, NY\, 11238
CATEGORIES:School Calendar 17-18
END:VEVENT
BEGIN:VEVENT
DTSTART;TZID=UTC:20180119T093000
DTEND;TZID=UTC:20180119T101500
DTSTAMP:20260422T224459
CREATED:20171206T070329Z
LAST-MODIFIED:20171212T103429Z
UID:10001200-1516354200-1516356900@www.jcc-brooklyn.org
SUMMARY:ShaJam Fridays
DESCRIPTION:Join us every Friday morning to wrap up the week and celebrate Shabbat as a community! Neighborhood families are encouraged to join with students from our Early Childhood Programs for music\, dancing\, stories\, and snacks led by our friends from Tkiya: The Jewish Community Music School. FREE and open to all\, regardless of background.
URL:https://www.jcc-brooklyn.org/clinton-hill/event/shajam-fridays/2018-01-19/
LOCATION:JCC Clinton Hill\, 309 Grand Avenue\, Brooklyn\, NY\, 11238
CATEGORIES:Agency Calendar,Family Programs
ATTACH;FMTTYPE=image/jpeg:https://www.jcc-brooklyn.org/clinton-hill/wp-content/uploads/sites/4/2017/12/shajam_c03.jpg
END:VEVENT
BEGIN:VEVENT
DTSTART;TZID=UTC:20180126T093000
DTEND;TZID=UTC:20180126T101500
DTSTAMP:20260422T224459
CREATED:20171206T070329Z
LAST-MODIFIED:20171212T103429Z
UID:10001201-1516959000-1516961700@www.jcc-brooklyn.org
SUMMARY:ShaJam Fridays
DESCRIPTION:Join us every Friday morning to wrap up the week and celebrate Shabbat as a community! Neighborhood families are encouraged to join with students from our Early Childhood Programs for music\, dancing\, stories\, and snacks led by our friends from Tkiya: The Jewish Community Music School. FREE and open to all\, regardless of background.
URL:https://www.jcc-brooklyn.org/clinton-hill/event/shajam-fridays/2018-01-26/
LOCATION:JCC Clinton Hill\, 309 Grand Avenue\, Brooklyn\, NY\, 11238
CATEGORIES:Agency Calendar,Family Programs
ATTACH;FMTTYPE=image/jpeg:https://www.jcc-brooklyn.org/clinton-hill/wp-content/uploads/sites/4/2017/12/shajam_c03.jpg
END:VEVENT
END:VCALENDAR