BEGIN:VCALENDAR
VERSION:2.0
PRODID:-//JCC Brooklyn Clinton Hill - ECPv6.11.2.1//NONSGML v1.0//EN
CALSCALE:GREGORIAN
METHOD:PUBLISH
X-ORIGINAL-URL:https://www.jcc-brooklyn.org/clinton-hill
X-WR-CALDESC:Events for JCC Brooklyn Clinton Hill
REFRESH-INTERVAL;VALUE=DURATION:PT1H
X-Robots-Tag:noindex
X-PUBLISHED-TTL:PT1H
BEGIN:VTIMEZONE
TZID:America/New_York
BEGIN:DAYLIGHT
TZOFFSETFROM:-0500
TZOFFSETTO:-0400
TZNAME:EDT
DTSTART:20180311T070000
END:DAYLIGHT
BEGIN:STANDARD
TZOFFSETFROM:-0400
TZOFFSETTO:-0500
TZNAME:EST
DTSTART:20181104T060000
END:STANDARD
END:VTIMEZONE
BEGIN:VEVENT
DTSTART;TZID=America/New_York:20180601T093000
DTEND;TZID=America/New_York:20180601T101500
DTSTAMP:20260422T182706
CREATED:20180315T165342Z
LAST-MODIFIED:20181116T160051Z
UID:10001233-1527845400-1527848100@www.jcc-brooklyn.org
SUMMARY:ShaJam Fridays
DESCRIPTION:Join us every Friday morning to wrap up the week and celebrate Shabbat as a community! Neighborhood families are encouraged to join us for music\, dancing\, stories\, and snacks led by our friends from Tkiya: The Jewish Community Music Initiative. \nFREE and open to all\, regardless of background. \nFridays 9:30-10:15am \n*Space is limited! RSVP to let us know you’re coming
URL:https://www.jcc-brooklyn.org/clinton-hill/event/shajam-fridays-2/2018-06-01/
LOCATION:JCC Clinton Hill\, 309 Grand Avenue\, Brooklyn\, NY\, 11238
CATEGORIES:Agency Calendar,Family Programs
ATTACH;FMTTYPE=image/jpeg:https://www.jcc-brooklyn.org/clinton-hill/wp-content/uploads/sites/4/2017/11/IMG_20171013_102028-scaled.jpg
END:VEVENT
BEGIN:VEVENT
DTSTART;TZID=America/New_York:20180602T160000
DTEND;TZID=America/New_York:20180602T170000
DTSTAMP:20260422T182706
CREATED:20180523T131556Z
LAST-MODIFIED:20180523T131556Z
UID:10001902-1527955200-1527958800@www.jcc-brooklyn.org
SUMMARY:ShaJam@Fort Greene Park
DESCRIPTION:Our twice monthly fun and FREE interactive Shabbat afternoon experience for families with children ages 0-5 led by our friends from Tkiya: The Jewish Community Music Initiative moves to an outdoor space! \nOpen to all\, regardless of background.
URL:https://www.jcc-brooklyn.org/clinton-hill/event/shajamfort-greene-park-2/
LOCATION:Fort Greene Park Playground\, Dekalb Ave & Washington Park\, Brooklyn\, NY\, 11201\, United States
CATEGORIES:Agency Calendar,Family Programs
ATTACH;FMTTYPE=image/jpeg:https://www.jcc-brooklyn.org/clinton-hill/wp-content/uploads/sites/4/2017/12/Clinton-hill-lil-rockstars-web-scaled.jpg
GEO:40.689631;-73.9731424
X-APPLE-STRUCTURED-LOCATION;VALUE=URI;X-ADDRESS=Fort Greene Park Playground Dekalb Ave & Washington Park Brooklyn NY 11201 United States;X-APPLE-RADIUS=500;X-TITLE=Dekalb Ave & Washington Park:geo:-73.9731424,40.689631
END:VEVENT
BEGIN:VEVENT
DTSTART;TZID=America/New_York:20180608T093000
DTEND;TZID=America/New_York:20180608T101500
DTSTAMP:20260422T182706
CREATED:20180315T165342Z
LAST-MODIFIED:20181116T160051Z
UID:10001234-1528450200-1528452900@www.jcc-brooklyn.org
SUMMARY:ShaJam Fridays
DESCRIPTION:Join us every Friday morning to wrap up the week and celebrate Shabbat as a community! Neighborhood families are encouraged to join us for music\, dancing\, stories\, and snacks led by our friends from Tkiya: The Jewish Community Music Initiative. \nFREE and open to all\, regardless of background. \nFridays 9:30-10:15am \n*Space is limited! RSVP to let us know you’re coming
URL:https://www.jcc-brooklyn.org/clinton-hill/event/shajam-fridays-2/2018-06-08/
LOCATION:JCC Clinton Hill\, 309 Grand Avenue\, Brooklyn\, NY\, 11238
CATEGORIES:Agency Calendar,Family Programs
ATTACH;FMTTYPE=image/jpeg:https://www.jcc-brooklyn.org/clinton-hill/wp-content/uploads/sites/4/2017/11/IMG_20171013_102028-scaled.jpg
END:VEVENT
BEGIN:VEVENT
DTSTART;TZID=America/New_York:20180613T170000
DTEND;TZID=America/New_York:20180613T190000
DTSTAMP:20260422T182706
CREATED:20180608T184224Z
LAST-MODIFIED:20180608T184224Z
UID:10001906-1528909200-1528916400@www.jcc-brooklyn.org
SUMMARY:Our first ever JCC Brooklyn Clinton Hill Parent Meet-and-Greet!
DESCRIPTION:Our first ever JCC Brooklyn Clinton Hill Parent Meet-and-Greet! All parents of 2017-18 and 2018-19 students are invited.  \nSee Flyer! \nFor Questions / to RSVP please contact croman@jcc-brooklyn.org
URL:https://www.jcc-brooklyn.org/clinton-hill/event/our-first-ever-jcc-brooklyn-clinton-hill-parent-meet-and-greet/
LOCATION:Mekelburg’s\, 293 Grand Ave\, Brooklyn\, NY\, 11238\, United States
CATEGORIES:Agency Calendar
GEO:40.6875444;-73.9623658
X-APPLE-STRUCTURED-LOCATION;VALUE=URI;X-ADDRESS=Mekelburg’s 293 Grand Ave Brooklyn NY 11238 United States;X-APPLE-RADIUS=500;X-TITLE=293 Grand Ave:geo:-73.9623658,40.6875444
END:VEVENT
BEGIN:VEVENT
DTSTART;TZID=America/New_York:20180615T093000
DTEND;TZID=America/New_York:20180615T101500
DTSTAMP:20260422T182706
CREATED:20180315T165342Z
LAST-MODIFIED:20181116T160051Z
UID:10001235-1529055000-1529057700@www.jcc-brooklyn.org
SUMMARY:ShaJam Fridays
DESCRIPTION:Join us every Friday morning to wrap up the week and celebrate Shabbat as a community! Neighborhood families are encouraged to join us for music\, dancing\, stories\, and snacks led by our friends from Tkiya: The Jewish Community Music Initiative. \nFREE and open to all\, regardless of background. \nFridays 9:30-10:15am \n*Space is limited! RSVP to let us know you’re coming
URL:https://www.jcc-brooklyn.org/clinton-hill/event/shajam-fridays-2/2018-06-15/
LOCATION:JCC Clinton Hill\, 309 Grand Avenue\, Brooklyn\, NY\, 11238
CATEGORIES:Agency Calendar,Family Programs
ATTACH;FMTTYPE=image/jpeg:https://www.jcc-brooklyn.org/clinton-hill/wp-content/uploads/sites/4/2017/11/IMG_20171013_102028-scaled.jpg
END:VEVENT
BEGIN:VEVENT
DTSTART;TZID=America/New_York:20180619T160000
DTEND;TZID=America/New_York:20180619T170000
DTSTAMP:20260422T182706
CREATED:20180608T170810Z
LAST-MODIFIED:20180608T170810Z
UID:10001903-1529424000-1529427600@www.jcc-brooklyn.org
SUMMARY:Songs & Stories in Underwood Park 
DESCRIPTION:Songs & Stories in Underwood Park (Lafayette between Washington and Waverly) \nSuggested for kids 0-5 and their grown-ups \nMusic with our friends from Tkiya! \nDetails and RSVP HERE \nTake a break from the playground and sing and play with us – look for the blue PJ Library blanket and listen for the music!
URL:https://www.jcc-brooklyn.org/clinton-hill/event/songs-stories-in-underwood-park/
LOCATION:Underwood Park\, Lafayette Avenue between Washington and Waverly\, Brooklyn\, NY\, 11205\, United States
CATEGORIES:Agency Calendar
ATTACH;FMTTYPE=image/jpeg:https://www.jcc-brooklyn.org/clinton-hill/wp-content/uploads/sites/4/2018/06/park-music.jpg
END:VEVENT
BEGIN:VEVENT
DTSTART;TZID=America/New_York:20180622T093000
DTEND;TZID=America/New_York:20180622T101500
DTSTAMP:20260422T182706
CREATED:20180315T165342Z
LAST-MODIFIED:20181116T160051Z
UID:10001236-1529659800-1529662500@www.jcc-brooklyn.org
SUMMARY:ShaJam Fridays
DESCRIPTION:Join us every Friday morning to wrap up the week and celebrate Shabbat as a community! Neighborhood families are encouraged to join us for music\, dancing\, stories\, and snacks led by our friends from Tkiya: The Jewish Community Music Initiative. \nFREE and open to all\, regardless of background. \nFridays 9:30-10:15am \n*Space is limited! RSVP to let us know you’re coming
URL:https://www.jcc-brooklyn.org/clinton-hill/event/shajam-fridays-2/2018-06-22/
LOCATION:JCC Clinton Hill\, 309 Grand Avenue\, Brooklyn\, NY\, 11238
CATEGORIES:Agency Calendar,Family Programs
ATTACH;FMTTYPE=image/jpeg:https://www.jcc-brooklyn.org/clinton-hill/wp-content/uploads/sites/4/2017/11/IMG_20171013_102028-scaled.jpg
END:VEVENT
BEGIN:VEVENT
DTSTART;TZID=America/New_York:20180623T160000
DTEND;TZID=America/New_York:20180623T170000
DTSTAMP:20260422T182706
CREATED:20180423T024958Z
LAST-MODIFIED:20180523T132309Z
UID:10001899-1529769600-1529773200@www.jcc-brooklyn.org
SUMMARY:ShaJam Singalong
DESCRIPTION:Our twice monthly fun and FREE interactive Shabbat afternoon experience for families with children ages 0-5 led by our friends from Tkiya: The Jewish Community Music Initiative. Open to all\, regardless of background.
URL:https://www.jcc-brooklyn.org/clinton-hill/event/shajam-singalong-2018-05-12-3-2/
LOCATION:JCC Clinton Hill\, 309 Grand Avenue\, Brooklyn\, NY\, 11238
CATEGORIES:Agency Calendar,Family Programs
ATTACH;FMTTYPE=image/jpeg:https://www.jcc-brooklyn.org/clinton-hill/wp-content/uploads/sites/4/2018/01/IMG_1878.jpg
END:VEVENT
BEGIN:VEVENT
DTSTART;TZID=America/New_York:20180623T160000
DTEND;TZID=America/New_York:20180623T170000
DTSTAMP:20260422T182706
CREATED:20180608T172538Z
LAST-MODIFIED:20180608T172538Z
UID:10001904-1529769600-1529773200@www.jcc-brooklyn.org
SUMMARY:ShaJam Singalong with Tkiya at JCC Brooklyn – Clinton Hill
DESCRIPTION:No RSVP necessary \nQuestions? E-mail: info@tkiya.org
URL:https://www.jcc-brooklyn.org/clinton-hill/event/shajam-singalong-with-tkiya-at-jcc-brooklyn-clinton-hill/
LOCATION:JCC Clinton Hill\, 309 Grand Avenue\, Brooklyn\, NY\, 11238
CATEGORIES:Agency Calendar
END:VEVENT
BEGIN:VEVENT
DTSTART;TZID=America/New_York:20180624T160000
DTEND;TZID=America/New_York:20180624T170000
DTSTAMP:20260422T182706
CREATED:20180608T173114Z
LAST-MODIFIED:20180608T173114Z
UID:10001905-1529856000-1529859600@www.jcc-brooklyn.org
SUMMARY:Songs & Stories in Von King Park
DESCRIPTION:Songs & Stories in Von King Park (670 Lafayette Ave between Marcy and Tompkins) \nSuggested for kids 0-5 and their grown-ups \nMusic with our friends from Tkiya! \nMore details and RSVP info coming soon.
URL:https://www.jcc-brooklyn.org/clinton-hill/event/songs-stories-in-von-king-park/
LOCATION:Von King Park\, 670 Lafayette Ave between Marcy and Tompkins\, Brooklyn\, NY\, 11216\, United States
CATEGORIES:Agency Calendar
GEO:40.689612;-73.946732
X-APPLE-STRUCTURED-LOCATION;VALUE=URI;X-ADDRESS=Von King Park 670 Lafayette Ave between Marcy and Tompkins Brooklyn NY 11216 United States;X-APPLE-RADIUS=500;X-TITLE=670 Lafayette Ave between Marcy and Tompkins:geo:-73.946732,40.689612
END:VEVENT
BEGIN:VEVENT
DTSTART;TZID=America/New_York:20180629T093000
DTEND;TZID=America/New_York:20180629T101500
DTSTAMP:20260422T182706
CREATED:20180315T165342Z
LAST-MODIFIED:20181116T160051Z
UID:10001237-1530264600-1530267300@www.jcc-brooklyn.org
SUMMARY:ShaJam Fridays
DESCRIPTION:Join us every Friday morning to wrap up the week and celebrate Shabbat as a community! Neighborhood families are encouraged to join us for music\, dancing\, stories\, and snacks led by our friends from Tkiya: The Jewish Community Music Initiative. \nFREE and open to all\, regardless of background. \nFridays 9:30-10:15am \n*Space is limited! RSVP to let us know you’re coming
URL:https://www.jcc-brooklyn.org/clinton-hill/event/shajam-fridays-2/2018-06-29/
LOCATION:JCC Clinton Hill\, 309 Grand Avenue\, Brooklyn\, NY\, 11238
CATEGORIES:Agency Calendar,Family Programs
ATTACH;FMTTYPE=image/jpeg:https://www.jcc-brooklyn.org/clinton-hill/wp-content/uploads/sites/4/2017/11/IMG_20171013_102028-scaled.jpg
END:VEVENT
END:VCALENDAR