BEGIN:VCALENDAR
VERSION:2.0
PRODID:-//JCC Brooklyn Clinton Hill - ECPv6.11.2.1//NONSGML v1.0//EN
CALSCALE:GREGORIAN
METHOD:PUBLISH
X-ORIGINAL-URL:https://www.jcc-brooklyn.org/clinton-hill
X-WR-CALDESC:Events for JCC Brooklyn Clinton Hill
REFRESH-INTERVAL;VALUE=DURATION:PT1H
X-Robots-Tag:noindex
X-PUBLISHED-TTL:PT1H
BEGIN:VTIMEZONE
TZID:America/New_York
BEGIN:DAYLIGHT
TZOFFSETFROM:-0500
TZOFFSETTO:-0400
TZNAME:EDT
DTSTART:20200308T070000
END:DAYLIGHT
BEGIN:STANDARD
TZOFFSETFROM:-0400
TZOFFSETTO:-0500
TZNAME:EST
DTSTART:20201101T060000
END:STANDARD
END:VTIMEZONE
BEGIN:VTIMEZONE
TZID:America/New_York
BEGIN:DAYLIGHT
TZOFFSETFROM:-0500
TZOFFSETTO:-0400
TZNAME:EDT
DTSTART:20200308T070000
END:DAYLIGHT
BEGIN:STANDARD
TZOFFSETFROM:-0400
TZOFFSETTO:-0500
TZNAME:EST
DTSTART:20201101T060000
END:STANDARD
END:VTIMEZONE
BEGIN:VEVENT
DTSTART;TZID=America/New_York:20200202T100000
DTEND;TZID=America/New_York:20200202T120000
DTSTAMP:20260422T030626
CREATED:20200106T190449Z
LAST-MODIFIED:20200106T190449Z
UID:10002043-1580637600-1580644800@www.jcc-brooklyn.org
SUMMARY:JCC Sundays
DESCRIPTION:Ages 0-5 years old\nSundays 10:00 am – 12:00 pm\nFree play\, art and craft activities\, and a dance/movement class\n$20 per class \nRegister here: https://www.jcc-brooklyn.org/clinton-hill/programs/0-5/jcc-sundays/#overview
URL:https://www.jcc-brooklyn.org/clinton-hill/event/jcc-sundays-2/2020-02-02/
LOCATION:JCC Clinton Hill\, 309 Grand Avenue\, Brooklyn\, NY\, 11238
ATTACH;FMTTYPE=image/png:https://www.jcc-brooklyn.org/clinton-hill/wp-content/uploads/sites/4/2020/01/Sunday-Program.png
END:VEVENT
BEGIN:VEVENT
DTSTART;TZID=America/New_York:20200202T100000
DTEND;TZID=America/New_York:20200202T120000
DTSTAMP:20260422T030626
CREATED:20200106T190449Z
LAST-MODIFIED:20200128T185020Z
UID:10002320-1580637600-1580644800@www.jcc-brooklyn.org
SUMMARY:JCC Sundays
DESCRIPTION:Ages 0-5 years old\nSundays 10:00 am – 12:00 pm\nFree play\, art and craft activities\, and a dance/movement class\n$20 per class \nRegister here: https://www.jcc-brooklyn.org/clinton-hill/programs/0-5/jcc-sundays/#overview \n*NOTE* THIS SUNDAY ONLY! We have a Talk on Literacy Skills available for parents as their children play in the gym with our staff. This talk will focus on ages 0-5. Please refer to the link/image below and click for more details.  \nA Talk on Early Literacy Skills \n \n 
URL:https://www.jcc-brooklyn.org/clinton-hill/event/jcc-sundays-2020-02-02/
LOCATION:JCC Clinton Hill\, 309 Grand Avenue\, Brooklyn\, NY\, 11238
ATTACH;FMTTYPE=image/png:https://www.jcc-brooklyn.org/clinton-hill/wp-content/uploads/sites/4/2020/01/Sunday-Program.png
END:VEVENT
BEGIN:VEVENT
DTSTART;TZID=America/New_York:20200202T103000
DTEND;TZID=America/New_York:20200202T113000
DTSTAMP:20260422T030626
CREATED:20200128T183619Z
LAST-MODIFIED:20200128T183816Z
UID:10002324-1580639400-1580643000@www.jcc-brooklyn.org
SUMMARY:A Talk on Early Literacy Skills
DESCRIPTION:Sign up for our upcoming JCC Sunday program\, February 2\, and have your children play in our gym with our staff while you learn about literacy skills for your child! Available this Sunday only for FREE with a JCC Sunday sign up! To sign up for this Sunday’s JCC Sunday program\, please click the image/link below. \nhttps://www.jcc-brooklyn.org/clinton-hill/event/jcc-sundays/2020-02-02/
URL:https://www.jcc-brooklyn.org/clinton-hill/event/a-talk-on-early-literacy-skills/
LOCATION:JCC Clinton Hill\, 309 Grand Avenue\, Brooklyn\, NY\, 11238
ATTACH;FMTTYPE=image/png:https://www.jcc-brooklyn.org/clinton-hill/wp-content/uploads/sites/4/2020/01/A-Talk-on-Early-Literacy-Skills.png
END:VEVENT
BEGIN:VEVENT
DTSTART;TZID=America/New_York:20200207T093000
DTEND;TZID=America/New_York:20200207T101500
DTSTAMP:20260422T030626
CREATED:20180315T165342Z
LAST-MODIFIED:20200312T202234Z
UID:10001600-1581067800-1581070500@www.jcc-brooklyn.org
SUMMARY:ShaJam Fridays
DESCRIPTION:SHAJAM FRIDAYS ARE CANCELED UNTIL FURTHER NOTICE.  \nJoin us every Friday morning to wrap up the week and celebrate Shabbat as a community! Neighborhood families are encouraged to join us for music\, dancing\, stories\, and snacks led by our friends from Tkiya: The Jewish Community Music Initiative. \nFREE and open to all\, regardless of background. \nFridays 9:30-10:15am \n*Space is limited! RSVP to let us know you’re coming
URL:https://www.jcc-brooklyn.org/clinton-hill/event/shajam-fridays-2-2019-11-01-2019-09-06/2020-02-07/
LOCATION:JCC Clinton Hill\, 309 Grand Avenue\, Brooklyn\, NY\, 11238
CATEGORIES:Agency Calendar,Family Programs
ATTACH;FMTTYPE=image/jpeg:https://www.jcc-brooklyn.org/clinton-hill/wp-content/uploads/sites/4/2017/11/IMG_20171013_102028-scaled.jpg
END:VEVENT
END:VCALENDAR