BEGIN:VCALENDAR
VERSION:2.0
PRODID:-//JCC Brooklyn North Williamsburg - ECPv6.11.2.1//NONSGML v1.0//EN
CALSCALE:GREGORIAN
METHOD:PUBLISH
X-WR-CALNAME:JCC Brooklyn North Williamsburg
X-ORIGINAL-URL:https://www.jcc-brooklyn.org/north-williamsburg
X-WR-CALDESC:Events for JCC Brooklyn North Williamsburg
REFRESH-INTERVAL;VALUE=DURATION:PT1H
X-Robots-Tag:noindex
X-PUBLISHED-TTL:PT1H
BEGIN:VTIMEZONE
TZID:UTC
BEGIN:STANDARD
TZOFFSETFROM:+0000
TZOFFSETTO:+0000
TZNAME:UTC
DTSTART:20190101T000000
END:STANDARD
END:VTIMEZONE
BEGIN:VEVENT
DTSTART;TZID=UTC:20190324T110000
DTEND;TZID=UTC:20190324T130000
DTSTAMP:20260423T062445
CREATED:20190209T185619Z
LAST-MODIFIED:20190304T204546Z
UID:10000153-1553425200-1553432400@www.jcc-brooklyn.org
SUMMARY:Purim Celebration
DESCRIPTION:Open to the community. \nInvite your friends & family and come join us in celebrating Purim with music\, arts & crafts\, face painting and much more!\nFeaturing music with Tikya\, face painting with Kristen Mahoney.\nThe fun and festivities will take place on Sunday\, March 24th from 11am-1pm at JCC Brooklyn North Williamsburg (14 Hope Street\, Suite 1).\nCostumes are encouraged!
URL:https://www.jcc-brooklyn.org/north-williamsburg/event/purim-celebration/
LOCATION:JCC Brooklyn: North Williamsburg\, 14 Hope Street\, Brooklyn\, NY\, 11211
CATEGORIES:Agency Calendar
ATTACH;FMTTYPE=image/jpeg:https://www.jcc-brooklyn.org/north-williamsburg/wp-content/uploads/sites/2/2018/01/purim-masks-hamantaschen.jpg
GEO:40.7135063;-73.9573276
X-APPLE-STRUCTURED-LOCATION;VALUE=URI;X-ADDRESS=JCC Brooklyn: North Williamsburg 14 Hope Street Brooklyn NY 11211;X-APPLE-RADIUS=500;X-TITLE=14 Hope Street:geo:-73.9573276,40.7135063
END:VEVENT
END:VCALENDAR