BEGIN:VCALENDAR
VERSION:2.0
PRODID:-//JCC Brooklyn North Williamsburg - ECPv6.11.2.1//NONSGML v1.0//EN
CALSCALE:GREGORIAN
METHOD:PUBLISH
X-ORIGINAL-URL:https://www.jcc-brooklyn.org/north-williamsburg
X-WR-CALDESC:Events for JCC Brooklyn North Williamsburg
REFRESH-INTERVAL;VALUE=DURATION:PT1H
X-Robots-Tag:noindex
X-PUBLISHED-TTL:PT1H
BEGIN:VTIMEZONE
TZID:UTC
BEGIN:STANDARD
TZOFFSETFROM:+0000
TZOFFSETTO:+0000
TZNAME:UTC
DTSTART:20190101T000000
END:STANDARD
END:VTIMEZONE
BEGIN:VEVENT
DTSTART;TZID=UTC:20190904T180000
DTEND;TZID=UTC:20190904T200000
DTSTAMP:20260423T233948
CREATED:20190819T190429Z
LAST-MODIFIED:20190819T190633Z
UID:10000276-1567620000-1567627200@www.jcc-brooklyn.org
SUMMARY:Curriculum Night
DESCRIPTION:6pm for 2’s &3’s Parents\, 7pm for Pre-K Parents
URL:https://www.jcc-brooklyn.org/north-williamsburg/event/curriculum-night/
LOCATION:JCC Brooklyn: North Williamsburg\, 14 Hope Street\, Brooklyn\, NY\, 11211
CATEGORIES:Agency Calendar,Family Programs,School Calendar 17-18
GEO:40.7135063;-73.9573276
X-APPLE-STRUCTURED-LOCATION;VALUE=URI;X-ADDRESS=JCC Brooklyn: North Williamsburg 14 Hope Street Brooklyn NY 11211;X-APPLE-RADIUS=500;X-TITLE=14 Hope Street:geo:-73.9573276,40.7135063
END:VEVENT
BEGIN:VEVENT
DTSTART;VALUE=DATE:20190912
DTEND;VALUE=DATE:20190913
DTSTAMP:20260423T233948
CREATED:20190819T190546Z
LAST-MODIFIED:20190819T190546Z
UID:10000277-1568246400-1568332799@www.jcc-brooklyn.org
SUMMARY:Early Bird and After School Begins
DESCRIPTION:Early bird and After school begins
URL:https://www.jcc-brooklyn.org/north-williamsburg/event/early-bird-and-after-school-begins/
LOCATION:JCC Brooklyn: North Williamsburg\, 14 Hope Street\, Brooklyn\, NY\, 11211
CATEGORIES:Agency Calendar,Family Programs,School Calendar 17-18
GEO:40.7135063;-73.9573276
X-APPLE-STRUCTURED-LOCATION;VALUE=URI;X-ADDRESS=JCC Brooklyn: North Williamsburg 14 Hope Street Brooklyn NY 11211;X-APPLE-RADIUS=500;X-TITLE=14 Hope Street:geo:-73.9573276,40.7135063
END:VEVENT
BEGIN:VEVENT
DTSTART;TZID=UTC:20190913T085000
DTEND;TZID=UTC:20190913T092000
DTSTAMP:20260423T233948
CREATED:20190826T013111Z
LAST-MODIFIED:20190826T013122Z
UID:10000176-1568364600-1568366400@www.jcc-brooklyn.org
SUMMARY:Tot Shabbat
DESCRIPTION:Tot Shabbat- 8:50-9:20\n9/13\, 9/20\, 9/27\n10/4. 10/11\, 10/18\, 10/25
URL:https://www.jcc-brooklyn.org/north-williamsburg/event/tot-shabbat-4/2019-09-13/
LOCATION:JCC Brooklyn: North Williamsburg\, 14 Hope Street\, Brooklyn\, NY\, 11211
CATEGORIES:Family Programs
GEO:40.7135063;-73.9573276
X-APPLE-STRUCTURED-LOCATION;VALUE=URI;X-ADDRESS=JCC Brooklyn: North Williamsburg 14 Hope Street Brooklyn NY 11211;X-APPLE-RADIUS=500;X-TITLE=14 Hope Street:geo:-73.9573276,40.7135063
END:VEVENT
BEGIN:VEVENT
DTSTART;TZID=UTC:20190920T085000
DTEND;TZID=UTC:20190920T092000
DTSTAMP:20260423T233948
CREATED:20190826T013111Z
LAST-MODIFIED:20190826T013122Z
UID:10000177-1568969400-1568971200@www.jcc-brooklyn.org
SUMMARY:Tot Shabbat
DESCRIPTION:Tot Shabbat- 8:50-9:20\n9/13\, 9/20\, 9/27\n10/4. 10/11\, 10/18\, 10/25
URL:https://www.jcc-brooklyn.org/north-williamsburg/event/tot-shabbat-4/2019-09-20/
LOCATION:JCC Brooklyn: North Williamsburg\, 14 Hope Street\, Brooklyn\, NY\, 11211
CATEGORIES:Family Programs
GEO:40.7135063;-73.9573276
X-APPLE-STRUCTURED-LOCATION;VALUE=URI;X-ADDRESS=JCC Brooklyn: North Williamsburg 14 Hope Street Brooklyn NY 11211;X-APPLE-RADIUS=500;X-TITLE=14 Hope Street:geo:-73.9573276,40.7135063
END:VEVENT
BEGIN:VEVENT
DTSTART;TZID=UTC:20190927T085000
DTEND;TZID=UTC:20190927T092000
DTSTAMP:20260423T233948
CREATED:20190826T013111Z
LAST-MODIFIED:20190826T013122Z
UID:10000178-1569574200-1569576000@www.jcc-brooklyn.org
SUMMARY:Tot Shabbat
DESCRIPTION:Tot Shabbat- 8:50-9:20\n9/13\, 9/20\, 9/27\n10/4. 10/11\, 10/18\, 10/25
URL:https://www.jcc-brooklyn.org/north-williamsburg/event/tot-shabbat-4/2019-09-27/
LOCATION:JCC Brooklyn: North Williamsburg\, 14 Hope Street\, Brooklyn\, NY\, 11211
CATEGORIES:Family Programs
GEO:40.7135063;-73.9573276
X-APPLE-STRUCTURED-LOCATION;VALUE=URI;X-ADDRESS=JCC Brooklyn: North Williamsburg 14 Hope Street Brooklyn NY 11211;X-APPLE-RADIUS=500;X-TITLE=14 Hope Street:geo:-73.9573276,40.7135063
END:VEVENT
BEGIN:VEVENT
DTSTART;TZID=UTC:20190929T110000
DTEND;TZID=UTC:20190929T130000
DTSTAMP:20260423T233948
CREATED:20190819T190745Z
LAST-MODIFIED:20190819T190803Z
UID:10000168-1569754800-1569762000@www.jcc-brooklyn.org
SUMMARY:Community Rosh Hashanah Celebration
DESCRIPTION:Community Rosh Hashanah Celebration.
URL:https://www.jcc-brooklyn.org/north-williamsburg/event/community-rosh-hashanah-celebration/
LOCATION:JCC Brooklyn: North Williamsburg\, 14 Hope Street\, Brooklyn\, NY\, 11211
CATEGORIES:Agency Calendar,Family Programs
GEO:40.7135063;-73.9573276
X-APPLE-STRUCTURED-LOCATION;VALUE=URI;X-ADDRESS=JCC Brooklyn: North Williamsburg 14 Hope Street Brooklyn NY 11211;X-APPLE-RADIUS=500;X-TITLE=14 Hope Street:geo:-73.9573276,40.7135063
END:VEVENT
END:VCALENDAR