BEGIN:VCALENDAR
VERSION:2.0
PRODID:-//JCC Brooklyn Windsor Terrace - ECPv6.11.2.1//NONSGML v1.0//EN
CALSCALE:GREGORIAN
METHOD:PUBLISH
X-WR-CALNAME:JCC Brooklyn Windsor Terrace
X-ORIGINAL-URL:https://www.jcc-brooklyn.org/windsor-terrace
X-WR-CALDESC:Events for JCC Brooklyn Windsor Terrace
REFRESH-INTERVAL;VALUE=DURATION:PT1H
X-Robots-Tag:noindex
X-PUBLISHED-TTL:PT1H
BEGIN:VTIMEZONE
TZID:UTC
BEGIN:STANDARD
TZOFFSETFROM:+0000
TZOFFSETTO:+0000
TZNAME:UTC
DTSTART:20180101T000000
END:STANDARD
END:VTIMEZONE
BEGIN:VEVENT
DTSTART;TZID=UTC:20180204T163000
DTEND;TZID=UTC:20180204T180000
DTSTAMP:20260423T094024
CREATED:20180121T025231Z
LAST-MODIFIED:20180122T132931Z
UID:466-1517761800-1517767200@www.jcc-brooklyn.org
SUMMARY:Tu B’Shvat Celebration
DESCRIPTION:Celebrate Tu B’shvat with JCC Brooklyn Windsor Terrace \nJoin JCC Brooklyn Windsor Terrace Families as we plant the seeds of spring. \n4:30pm Planting Project and Sing-Along: FREE \n5:00-6:00pm Dinner\, $22/adult\, $15/child 12 months+ \n(Catered by DaNonna Rosa – buffet will include gluten-free and vegan options and all be kosher-style)
URL:https://www.jcc-brooklyn.org/windsor-terrace/event/tu-bshvat-celebration/
LOCATION:JCC Brooklyn: Windsor Terrace\, 1224 Prospect Ave\, Brooklyn\, NY\, 11218
CATEGORIES:Special Events
GEO:40.6532492;-73.9765565
X-APPLE-STRUCTURED-LOCATION;VALUE=URI;X-ADDRESS=JCC Brooklyn: Windsor Terrace 1224 Prospect Ave Brooklyn NY 11218;X-APPLE-RADIUS=500;X-TITLE=1224 Prospect Ave:geo:-73.9765565,40.6532492
END:VEVENT
END:VCALENDAR